Workbook
Name TAK: 'SK1'!#REF!
Name TAK: 'SK1'!#REF!
Name TAK: obsada!#REF!
Name TAK: 'SK1'!#REF!
Name TAK: 'SK1'!$C$64:$H$64
Name TAK: 'SK1'!#REF!

Sheet D
B2: 3
B3: 001 | D3: nd | F3: 0 | H3: brak | J3: 1/0 | L3: TAURON Liga | N3: M1 | P3: hala sporowa - TAURON Liga | R3: białe | T3: Robert DWORAK | U3: DWORAK | V3: brak kwalifikatora na zawodach | X3: Sędzia z uprawnieniami A1 | Z3: Marta ANESZKO | AA3: ANESZKO | AB3: n.d. | AD3: elektroniczne | AF3: telewizyjna | AH3: TARAFLEX | AJ3: n.d. | AL3: brak certyfikatu hali | AN3: brak homologacji | AP3: nie dotyczy | AS3: nie dotyczy
B4: 002 | D4: 0 | F4: 0.5 | H4: 01 | J4: 1/1 | L4: TAURON Liga Kobiet | N4: K1 | P4: /BEL/ Hala Energia w Bełchatowie, Dąbrowskiego 11 | R4: biało-czarne | T4: Magda GAGO | U4: GAGO | V4: Jan BANIAK | W4: BANIAK | X4: Bartłomiej ADAMCZYK | Y4: ADAMCZYK | Z4: Małgorzata ARMKNECHT | AA4: ARMKNECHT | AB4: Bełchatów | AD4: stałe | AF4: internetowa | AH4: brak | AJ4: M | AL4: załącznik do certyfikatu hali | AN4: TAURON Liga | AP4: brak spikera licencjonowanego | AS4: brak challenge
B5: 003 | D5: 1 | F5: 1 | H5: 02 | J5: 1/2 | L5: TAURON 1.Liga | N5: M2 | P5: /CHE/ Miejska Hala Sportowa, Graniczna 2A | R5: biało-czerwone | T5: Monika GORSZYNIECKA | U5: GORSZYNIECKA | V5: Albert BŁAŻEWICZ | W5: BŁAŻEWICZ | X5: Tomasz BAŁABAŃSKI | Y5: BAŁABAŃSKI | Z5: Adam AWIŻEŃ | AA5: AWIŻEŃ | AB5: Będzin | AD5: brak | AF5: brak transmisji | AJ5: P | AL5: Certyfikat PZPS | AN5: HK/TLM/01 | AP5: Dominik BERWERTZ | AQ5: BERWERTZ | AS5: Wojciech ANDRZEJKIEWICZ /TDS/ | AT5: ANDRZEJKIEWICZ
B6: 004 | D6: 2 | F6: 1.5 | H6: 03 | J6: 1/3 | L6: TAURON 1.Liga Kobiet | N6: K2 | P6: /CZE/ HS Częstochowa, Żużlowa 4 | R6: biało-granatowe | T6: Robert GRZANKA | U6: GRZANKA | V6: Jacek BROŃSKI | W6: BROŃSKI | X6: Mateusz BROŃSKI | Y6: BROŃSKI | Z6: Cyprian BARANOWSKI | AA6: BARANOWSKI | AB6: Białystok | AH6: HK/TLM | AJ6: Z | AL6: Certyfikat hali nr 1 | AN6: HK/TLM/02 | AP6: Kamil BLODA | AQ6: BLODA | AS6: Artur CIĄŻYŃSKI /TDS/ | AT6: CIĄŻYŃSKI
B7: 005 | D7: 3 | F7: 2 | H7: 04 | J7: 1/4 | L7: Puchar Polski Mężczyzn | N7: PPM | P7: /GDA/ Ergo Arena w Gdańsku, Plac Dwóch Miast 1 | R7: biało-niebieskie | T7: Bogna KANICKA | U7: KANICKA | V7: Wiesław CIEŚLIK | W7: CIEŚLIK | X7: Paweł BURKIEWICZ | Y7: BURKIEWICZ | Z7: Agnieszka BARYŁOWICZ | AA7: BARYŁOWICZ | AB7: Bielsko - Biała | AD7: sankcje | AF7: inne | AH7: HK/TLK | AJ7: 1 klasa | AL7: Certyfikat hali nr 2 | AN7: HK/TLM/03 | AP7: Krzysztof BORKOWSKI | AQ7: BORKOWSKI | AS7: Sandra KAPCZYŃSKA /TDS/ | AT7: KAPCZYŃSKA
B8: 006 | D8: 4 | F8: 2.5 | H8: 05 | J8: 2/0 | L8: Puchar Polski Kobiet | N8: PPK | P8: /GOR/ Arena Gorzów, Słowiańska 16 | R8: biało-pomarańczowe | T8: Janusz KAPKA | U8: KAPKA | V8: Andrzej CZERWIŃSKI | W8: CZERWIŃSKI | X8: Tomasz FLIS | Y8: FLIS | Z8: Bartek BEMBENEK | AA8: BEMBENEK | AB8: Brenna | AD8: brak | AF8: TAK | AH8: HK/T1M | AJ8: 2 klasa | AL8: Certyfikat hali nr 3 | AN8: HK/TLM/04 | AP8: Oskar BRZEZIK | AQ8: BRZEZIK | AS8: Marcin LEPIARZ /TDS/ | AT8: LEPIARZ
B9: 007 | D9: 5 | F9: 3 | H9: 06 | J9: 2/1 | L9: Superpuchar Mężczyzn | N9: SPM | P9: /KAT/ Arena Katowice, Nowa Bukowa 1 | R9: biało-zielone | T9: Waldemar KOBIENIA | U9: KOBIENIA | V9: Henryk DAROCHA | W9: DAROCHA | X9: Mariusz GADZINA | Y9: GADZINA | Z9: Rafał BŁACHUCIŃSKI | AA9: BŁACHUCIŃSKI | AB9: Brynek | AD9: brak uchybień | AF9: NIE | AH9: HK/T1K | AJ9: 3 klasa | AL9: Certyfikat hali nr 4 | AN9: HK/TLM/05 | AP9: Adrian CHAMIELEC | AQ9: CHAMIELEC | AS9: Karol ŁAPIŃSKI /TDS/ | AT9: ŁAPIŃSKI
B10: 008 | D10: 6 | F10: 3.5 | H10: 07 | J10: 2/2 | L10: Superpuchar Kobiet | N10: SPK | P10: /KAT/ MOSiR w Szopienicach, 11 Listopada 16 | R10: błękitne | T10: Maciej KWIATKOWSKI | U10: KWIATKOWSKI | V10: Piotr DUDEK | W10: DUDEK | X10: Wojciech GŁÓD | Y10: GŁÓD | Z10: Paulina BOŚ | AA10: BOŚ | AB10: Bydgoszcz | AD10: uchybienia opisane w uwagach | AF10: nie dotyczy | AH10: HK/PZPS | AJ10: ES | AL10: Certyfikat hali nr 5 | AN10: HK/TLM/06 | AP10: Robert DŁUGOSZ | AQ10: DŁUGOSZ | AS10: Marcin MIKOŁAJCZYK /TDS/ | AT10: MIKOŁAJCZYK
B11: 009 | D11: 7 | F11: 4 | H11: 08 | J11: 2/3 | L11: Baraż | N11: BŻ | P11: /KED/ HWS Azoty im. Kazimierza Pietrzyka, Mostowa 1a | R11: bordowe | T11: Marek KWIECIŃSKI | U11: KWIECIŃSKI | V11: Mariusz FIUTEK | W11: FIUTEK | X11: Sławomir GOŁĄBEK | Y11: GOŁĄBEK | Z11: Dominika BROCHOCKA | AA11: BROCHOCKA | AB11: Chełm | AF11: uwag brak | AH11: brak | AJ11: n.d. | AL11: Certyfikat hali nr 6 | AN11: HK/TLM/07 | AP11: Adam FLISZKIEWICZ | AQ11: FLISZKIEWICZ | AS11: Marcin MORKOWSKI /TDS/ | AT11: MORKOWSKI
B12: 010 | D12: 8 | F12: 4.5 | H12: 09 | J12: 3/0 | L12: drużyny "M1" | N12: skróty "M1" | P12: /LUK/ HSW Globus, Kazimierza Wielkiego 8 | R12: brak libero | T12: Robert MALICKI | U12: MALICKI | V12: Jacek HOJKA | W12: HOJKA | X12: Grzegorz JANUSZ | Y12: JANUSZ | Z12: Michał BRONISZEWSKI | AA12: BRONISZEWSKI | AB12: Czeladź | AD12: przeprowadzono | AF12: brak naklejek 3D | AL12: Certyfikat hali nr 7 | AN12: HK/TLM/08 | AP12: Tomasz GORCZYCA | AQ12: GORCZYCA | AS12: Łukasz SABAŁA /TDS/ | AT12: SABAŁA
B13: 011 | D13: 9 | F13: 5 | H13: 10 | J13: 3/1 | L13: Aluron CMC Warta Zawiercie | N13: BEL | P13: /LWW/ HS w Jastrzębiu - Zdroju, Jana Pawła II 6 | R13: brązowe | T13: Sebastian MICHALAK | U13: MICHALAK | V13: Paweł IGNATOWICZ | W13: IGNATOWICZ | X13: Maciej KOLENDOWSKI | Y13: KOLENDOWSKI | Z13: Mateusz BUSZCZAK | AA13: BUSZCZAK | AB13: Częstochowa | AD13: brak kontroli | AH13: przeprowadzono | AJ13: 2026 | AL13: Certyfikat hali nr 8 | AN13: HK/TLM/09 | AP13: Michał JAŹWIEC | AQ13: JAŹWIEC | AS13: Grzegorz SZYSZKA /TDS/ | AT13: SZYSZKA
B14: 012 | D14: 10 | F14: 5.5 | H14: 11 | J14: 3/2 | L14: Asseco Resovia Rzeszów | N14: CHE | P14: /OLS/ Hala Urania w Olsztynie, Piłsudskiego 44 | R14: czarne | T14: Andrzej MICIUL | U14: MICIUL | V14: Grzegorz JACYNA | W14: JACYNA | X14: Piotr KRÓL | Y14: KRÓL | Z14: Magdalena CHOJECKA | AA14: CHOJECKA | AB14: Dąbrowa Górnicza | AH14: brak odprawy | AJ14: 2027 | AL14: Certyfikat hali nr 9 | AN14: HK/TLM/10 | AP14: Kamil KĘDZIERSKI | AQ14: KĘDZIERSKI | AS14: Mateusz BROŻEK /SportTech/ | AT14: BROŻEK
B15: 013 | D15: 11 | F15: 6 | H15: 12 | J15: 4/0 | L15: BOGDANKA LUK Lublin | N15: CZN | P15: /RZM/ Hala Podpromie w Rzeszowie, Podpromie 10 | R15: czarno-białe | T15: Witold MURCZKIEWICZ | U15: MURCZKIEWICZ | V15: Artur JANCZAREK | W15: JANCZAREK | X15: Marek KRUPSKI | Y15: KRUPSKI | Z15: Monika CHOROŚ | AA15: CHOROŚ | AB15: Ełk | AD15: przeprowadzono | AJ15: 2028 | AL15: Certyfikat hali nr 10 | AN15: HK/TLM/11 | AP15: Andrzej KOCIĘCKI | AQ15: KOCIĘCKI | AS15: Bartosz DYCZKOWSKI /SportTech/ | AT15: DYCZKOWSKI
B16: 014 | D16: 12 | F16: 6.5 | H16: 13 | J16: 4/1 | L16: Energa Indykpol AZS Olsztyn | N16: GDA | P16: /SUW/ Suwałki Arena, Zarzecze 26 | R16: czarno-bordowy | T16: Aneta OLSZYCKA | U16: OLSZYCKA | V16: Dariusz JASIŃSKI | W16: JASIŃSKI | X16: Marek LAGIERSKI | Y16: LAGIERSKI | Z16: Magdalena CHRZEŚCIJANEK | AA16: CHRZEŚCIJANEK | AB16: Garbatka Letnisko | AD16: brak odprawy | AH16: prawidłowa | AJ16: 2029 | AL16: Certyfikat hali nr 11 | AN16: HK/TLM/12 | AP16: Jacek KUBIAK | AQ16: KUBIAK | AS16: Patryk DZIATKOWIEC /SportTech/ | AT16: DZIATKOWIEC
B17: 015 | D17: 13 | F17: 7 | H17: 14 | J17: 5/0 | L17: Energa Trefl Gdańsk | N17: GOR | P17: /WAM/ Arena Ursynów w Warszawie, Pileckiego 122 | R17: czarno-czerwone | T17: Bogusław PACHNIEWICZ | U17: PACHNIEWICZ | V17: Wojciech KASPRZYK | W17: KASPRZYK | X17: Damian LIC | Y17: LIC | Z17: Mikołaj CZARNECKI | AA17: CZARNECKI | AB17: Gdańsk | AH17: nieprawidłowa | AJ17: 2030 | AL17: Certyfikat hali nr 12 | AN17: HK/TLM/13 | AP17: Krzysztof KUCHARCZYK | AQ17: KUCHARCZYK | AS17: Dawid FILIPOWICZ /SportTech/ | AT17: FILIPOWICZ
B18: 016 | D18: 14 | F18: 7.5 | H18: 15 | L18: GKS Katowice | N18: KAT | P18: /WAM/ Hala Torwar w Warszawie, Łazienkowska 6a | R18: czarno-pomarańczowe | T18: Konrad PAKOSZ | U18: PAKOSZ | V18: Andrzej KILEŃSKI | W18: KILEŃSKI | X18: Maciej MACIEJEWSKI | Y18: MACIEJEWSKI | Z18: Mateusz DUCKI | AA18: DUCKI | AB18: Gdynia | AD18: prawidłowa | AH18: nie dotyczy | AL18: Certyfikat hali nr 13 | AN18: HK/TLM/14 | AP18: Maciej ŁOPATTO | AQ18: ŁOPATTO | AS18: Paweł JAKUBCZYK /SportTech/ | AT18: JAKUBCZYK
B19: 017 | D19: 15 | F19: 8 | H19: 16 | L19: Jastrzębie Barkom | N19: KED | P19: /ZAW/ Arena Sosnowiec, Plac Zagłębia 3 | R19: czarno-zielone | T19: Dariusz PARKITNY | U19: PARKITNY | V19: Andrzej KISZCZAK | W19: KISZCZAK | X19: Agnieszka MICHLIC | Y19: MICHLIC | Z19: Mariusz FIUTEK | AA19: FIUTEK | AB19: Głogów | AD19: nieprawidłowa | AH19: brak | AL19: Certyfikat hali nr 14 | AN19: HK/TLM/15 | AP19: Andrzej ŁUKOWSKI | AQ19: ŁUKOWSKI | AS19: Jędrzej JAMIOŁKOWSKI /SportTech/ | AT19: JAMIOŁKOWSKI
B20: 018 | D20: 16 | F20: 8.5 | H20: 17 | L20: NEONET Norwid Częstochowa | N20: LUK | P20: /ZAW/ HWS w Zawierciu, Blanowska 40 | R20: czarno-złote | T20: Krzysztof RATAJCZAK | U20: RATAJCZAK | V20: Andrzej KUCHNA | W20: KUCHNA | X20: Paweł MORAWSKI | Y20: MORAWSKI | Z20: Piotr GUMIENNY | AA20: GUMIENNY | AB20: Gorzów Wlkp. | AH20: prawidłowe | AL20: Certyfikat hali nr 15 | AN20: HK/TLM/16 | AP20: Maurycy MAREK | AQ20: MAREK | AS20: Krystian PACYGA /SportTech/ | AT20: PACYGA
B21: 019 | D21: 17 | F21: 9 | H21: 18 | L21: PGE GiEK SKRA Bełchatów | N21: LWW | P21: hala sporowa - TAURON Liga Kobiet | R21: czerwone | T21: Albert SEMENIUK | U21: SEMENIUK | V21: Andrzej LEMEK | W21: LEMEK | X21: Magdalena NIEWIAROWSKA | Y21: NIEWIAROWSKA | Z21: Mateusz HASZTO | AA21: HASZTO | AB21: Gostyń | AD21: prawidłowy | AH21: nieprawidłowe | AL21: Certyfikat hali nr 16 | AN21: HK/TLM/17 | AP21: Grzegorz MARTYNIUK | AQ21: MARTYNIUK | AS21: Szymon RÓG /SportTech/ | AT21: RÓG
B22: 020 | D22: 18 | F22: 9.5 | H22: 19 | L22: PGE Projekt Warszawa | N22: OLS | P22: /BBK/ HWS im. Z. Pietrzykowskiego w Bielsku - Białej, Karbowa 26 | R22: czerwone | T22: Andrzej SKORUPA | U22: SKORUPA | V22: Marek LITWIŃSKI | W22: LITWIŃSKI | X22: Szymon PINDRAL | Y22: PINDRAL | Z22: Justyna JARZĘBICKA | AA22: JARZĘBICKA | AB22: Góra | AD22: nieprawidłowy | AH22: brak | AL22: Certyfikat hali nr 17 | AN22: HK/TLM/18 | AP22: Aleksander MATUSEK | AQ22: MATUSEK | AS22: Antoni WODZYŃSKI /SportTech/ | AT22: WODZYŃSKI
B23: 021 | D23: 19 | F23: 10 | H23: 20 | L23: Podziemia Kredowe ChKS Chełm | N23: RZM | P23: /BDK/ Artego Arena w Bydgoszczy, Toruńska 59 | R23: czerwono-czarne | T23: Józef SOBOLEWSKI | U23: SOBOLEWSKI | V23: Marek MIANOWSKI | W23: MIANOWSKI | X23: Piotr SKOWROŃSKI | Y23: SKOWROŃSKI | Z23: Jakub KALARUS | AA23: KALARUS | AB23: Inowrocław | AH23: nie dotyczy | AL23: Certyfikat hali nr 18 | AN23: HK/TLM/19 | AP23: Jacek MATYSZEWSKI | AQ23: MATYSZEWSKI | AS23: Kacper WODZYŃSKI /SportTech/ | AT23: WODZYŃSKI
B24: 022 | D24: 20 | H24: 21 | L24: Stilon Gorzów | N24: SUW | P24: /BDK/ HWS ŁUCZNICZKA w Bydgoszczy, Toruńska 59 | R24: fioletowe | T24: Jarosław STANCELEWSKI | U24: STANCELEWSKI | V24: Adam MITUTA | W24: MITUTA | X24: Maciej TWARDOWSKI | Y24: TWARDOWSKI | Z24: Piotr KAPA | AA24: KAPA | AB24: Jarosław | AD24: nd | AH24: prawidłowy | AL24: Certyfikat hali nr 19 | AN24: HK/TLM/20 | AP24: Michał NALEŚNIAK | AQ24: NALEŚNIAK | AS24: Krzysztof WODZYŃSKI /SportTech/ | AT24: WODZYŃSKI
B25: 023 | D25: 21 | F25: 0 | H25: 22 | L25: Ślepsk Malow Suwałki | N25: WAM | P25: /KAL/ Arena Kalisz, Wyszyńskiego 22-24 | R25: fioletowo-niebieskie | T25: Grzegorz SZEWCZYK | U25: SZEWCZYK | V25: Marek ORLEF | W25: ORLEF | X25: Marcin WALERZAK | Y25: WALERZAK | Z25: Katarzyna KASTELIK | AA25: KASTELIK | AB25: Jasło | AD25: TAK | AH25: nieprawidłowy | AL25: Certyfikat hali nr 20 | AN25: HK/TLM/21 | AP25: Radosław NOWAK | AQ25: NOWAK
B26: 024 | D26: 22 | F26: 5 | H26: 23 | L26: ZAKSA Kędzierzyn - Koźle | N26: ZAW | P26: /LDZ/ Atlas Arena w Łodzi, Bandurskiego 7 | R26: granatowe | T26: Krzysztof SZMYDYŃSKI | U26: SZMYDYŃSKI | V26: Jacek SĘK | W26: SĘK | X26: Marcin WEINER | Y26: WEINER | Z26: Olga KISIEL-SEKURA | AA26: KISIEL-SEKURA | AB26: Jędrzejów | AD26: NIE | AH26: nie dotyczy | AL26: Certyfikat hali nr 21 | AN26: HK/TLM/22 | AP26: Wojciech OBŁÓJ | AQ26: OBŁÓJ
B27: 025 | D27: 23 | H27: 24 | L27: drużyny "K1" | N27: skróty "K1" | P27: /LDZ/ Sport Arena w Łodzi, Uni Lubelskiej 2 | R27: granatowo-białe | T27: Grzegorz SZYMAŃSKI | U27: SZYMAŃSKI | V27: Bogusław SIKORA | W27: SIKORA | X27: Sędzia z uprawnieniami A2 | Z27: Mirosław KOŚCIEŃ | AA27: KOŚCIEŃ | AB27: Kalisz | AH27: brak | AL27: Certyfikat hali nr 22 | AN27: HK/TLM/23 | AP27: Marcin OCHMAN | AQ27: OCHMAN
B28: 026 | D28: 24 | F28: 0 | H28: 25 | L28: #VolleyWrocław | N28: BBK | P28: /LKS/ ATLAS Arena w Łodzi, Bandurskiego 7 | R28: granatowo-czerwone | T28: Zbigniew TOKARSKI | U28: TOKARSKI | V28: Marek SŁOWIK | W28: SŁOWIK | X28: Piotr ANDRAKA | Y28: ANDRAKA | Z28: Przemysław KOWALSKI | AA28: KOWALSKI | AB28: Katowice | AD28: zgodnie z przedstawionym certyfikatem hali | AL28: Certyfikat hali nr 23 | AN28: HK/TLM/24 | AP28: Rafał POLAK | AQ28: POLAK
B29: 027 | D29: 25 | F29: 3 | H29: 26 | L29: BKS ZGO Bielsko-Biała | N29: BDK | P29: /LKS/ SPORT Arena w Łodzi, Uni Lubelskiej 2 | R29: granatowo-żółte | T29: Róża WACHOWSKA | U29: WACHOWSKA | V29: Sylwester STRZYLAK | W29: STRZYLAK | X29: Anna BANAŚ | Y29: BANAŚ | Z29: Dominika KRAKOWCZYK | AA29: KRAKOWCZYK | AB29: Kędzierzyn - Koźle | AD29: zgodnie z załącznikiem do certyfikatu | AL29: Certyfikat hali nr 24 | AN29: HK/TLM/25 | AP29: Donat PRZYBYLSKI | AQ29: PRZYBYLSKI
B30: 028 | D30: 26 | F30: 5 | H30: 27 | L30: ITA TOOLS STAL Mielec | N30: KAL | P30: /MIE/ MOSiR Mielec, Solskiego 1 | R30: limonkowe | T30: Daniel WIĘCEK | U30: WIĘCEK | V30: Jarosław WALERIAŃCZYK | W30: WALERIAŃCZYK | X30: Marcin BARTŁOMIEJCZAK | Y30: BARTŁOMIEJCZAK | Z30: Daria KRUK | AA30: KRUK | AB30: Kielce | AD30: brak dokumentacji | AL30: Certyfikat hali nr 25 | AN30: HK/TLM/26 | AP30: Mateusz PYRZYK | AQ30: PYRZYK
B31: 029 | D31: 27 | H31: 28 | L31: KS DevelopRes Rzeszów | N31: LDZ | P31: /MOG/ HWS w Mogilnie, Grobla 1b | R31: miętowy | T31: Andrzej WOŁKOWYCKI | U31: WOŁKOWYCKI | V31: Dariusz WOLSKI | W31: WOLSKI | X31: Mirosław BEŃ | Y31: BEŃ | Z31: Artur KUCHARSKI | AA31: KUCHARSKI | AB31: Kluczbork | AD31: nie dotyczy /drużyna rozgrywek PZPS/ | AL31: Certyfikat hali nr 26 | AN31: HK/TLM/27 | AP31: Michał RUDNICKI | AQ31: RUDNICKI
B32: 030 | D32: 28 | F32: 0 | H32: 29 | L32: LOTTO Chemik Police | N32: LKS | P32: /OPO/ Stegu Arena, Oleska 70 | R32: niebieskie | T32: Jerzy ZWIERKO | U32: ZWIERKO | X32: Michał BRONISZEWSKI | Y32: BRONISZEWSKI | Z32: Kajetan LEWANDOWSKI | AA32: LEWANDOWSKI | AB32: Kluczewsko | AL32: Certyfikat hali nr 27 | AN32: HK/TLM/28 | AP32: Dawid SAJ | AQ32: SAJ
B33: 031 | D33: 29 | F33: 0.2 | H33: 30 | L33: ŁKS Commercecon Łódź | N33: MIE | P33: /POL/ Enea Arena Szczecin, Szafera 3/5/7 | R33: niebiesko-czarno-czerwone | X33: Marek BUDZIK | Y33: BUDZIK | Z33: Karol ŁEMPICKI | AA33: ŁEMPICKI | AB33: Koszalin | AL33: Certyfikat hali nr 28 | AN33: HK/TLM/29 | AP33: Krzysztof SĘDZICKI | AQ33: SĘDZICKI
B34: 032 | D34: 30 | F34: 0.4 | H34: 31 | L34: Metalkas Pałac Bydgoszcz | N34: MOG | P34: /POL/ HS w Policach, Siedlecka 6e | R34: niebiesko-czerwone | X34: Janusz CYRAN | Y34: CYRAN | Z34: Maciej MACHOWCZYK | AA34: MACHOWCZYK | AB34: Kraków | AD34: baner został wyeksponowany w hali | AL34: Certyfikat hali nr 29 | AN34: HK/TLM/30 | AP34: Maciej SITEK | AQ34: SITEK
B35: 033 | D35: 31 | F35: 0.6 | H35: 32 | L35: MOYA Radomka Radom | N35: OPO | P35: /RAK/ ENEA RCS, Struga 63 | R35: niebiesko-fioletowe | X35: Marcin DOBRZAŃSKI | Y35: DOBRZAŃSKI | Z35: Andrzej MACIEJEWSKI | AA35: MACIEJEWSKI | AB35: Krzeszowice | AD35: brak baneru | AL35: Certyfikat hali nr 30 | AN35: HK/TLM/31 | AP35: Maciej SIWEK | AQ35: SIWEK
B36: 034 | D36: 32 | F36: 0.8 | H36: 33 | L36: Netland MKS Kalisz | N36: POL | P36: /RAK/ MOSiR w Radomiu, Narutowicza 9 | R36: pomarańczowe | X36: Gabriela FERENCZAK | Y36: FERENCZAK | Z36: Marta MARCINIAK | AA36: MARCINIAK | AB36: Libiąż | AL36: Certyfikat hali nr 31 | AN36: HK/TLM/32 | AP36: Paweł SKOLIMOWSKI | AQ36: SKOLIMOWSKI
B37: 035 | D37: 33 | F37: 1 | H37: 34 | L37: PGE Budowlani Łódź | N37: RAK | P37: /RZK/ Hala PODPROMIE w Rzeszowie, Podpromie 10 | R37: pomarańczowo-zielone | X37: Mariusz FIUTEK | Y37: FIUTEK | Z37: Wojciech MIKULSKI | AA37: MIKULSKI | AB37: Lubin | AD37: TAK | AL37: Certyfikat hali nr 32 | AN37: HK/TLM/33 | AP37: Marcin SKROBOT | AQ37: SKROBOT
B38: 036 | D38: 34 | H38: 35 | L38: Sokół & Hagric Mogilno | N38: RZK | P38: /WRK/ Hala Orbita we Wrocławiu, Wejherowska 34 | R38: różowe | X38: Patryk FRĄCKIEWICZ | Y38: FRĄCKIEWICZ | Z38: Bartłomiej MOCHOL | AA38: MOCHOL | AB38: Lublin | AD38: brak informacji o zawodach | AL38: Certyfikat hali nr 33 | AN38: HK/TLM/34 | AP38: Mateusz SŁODKOWSKI | AQ38: SŁODKOWSKI
B39: 037 | D39: 37 | H39: 36 | L39: UNI Opole | N39: WRK | P39: /WRK/ HS w Jelczu-Laskowicach, Oławska 46 | R39: różowo-żółty | X39: Michał GRUSZCZYŃSKI | Y39: GRUSZCZYŃSKI | Z39: Michał NASIŁOWSKI | AA39: NASIŁOWSKI | AB39: Ludwinowo Zegrzyńskie | AL39: Certyfikat hali nr 34 | AN39: HK/TLM/35 | AP39: Szymon SOCHA | AQ39: SOCHA
B40: 038 | D40: 38 | H40: 37 | L40: drużyny "M2" | N40: skróty "M2" | P40: /WRK/ HS w Twardogórze, Wrocławska 39 | R40: srebrne | X40: Piotr HABEL | Y40: HABEL | Z40: Alicja ORLIK | AA40: ORLIK | AB40: Łódź | AL40: Certyfikat hali nr 35 | AN40: HK/TLM/36 | AP40: Jarosław SOLIŃSKI | AQ40: SOLIŃSKI
B41: 039 | D41: 39 | H41: 38 | L41: AVIA Sędziszów Małopolski | N41: BBM | P41: hala sporowa - TAURON 1.Liga | R41: szare | X41: Justyna HERLENDER | Y41: HERLENDER | Z41: Arkadiusz OSTROWSKI | AA41: OSTROWSKI | AB41: Mosina | AL41: Certyfikat hali nr 36 | AN41: HK/TLM/37 | AP41: Dariusz UŁANOWICZ | AQ41: UŁANOWICZ
B42: 040 | D42: 36 | H42: 39 | L42: BBTS Bielsko - Biała | N42: BDM | P42: /BBM/ HS im. Z. Pietrzykowskiego w Bielsku - Białej, Karbowa 26 | R42: truskawkowo-białe | X42: Tomasz JANIK | Y42: JANIK | Z42: Aleksandra PACYNA | AA42: PACYNA | AB42: Murowana Goślina | AL42: Certyfikat hali nr 37 | AN42: HK/TLM/38 | AP42: Patryk WAWRYNIUK | AQ42: WAWRYNIUK
B43: 041 | D43: 40 | H43: 40 | L43: BKS Bydgoszcz | N43: BED | P43: /BDM/ HSW Łuczniczka w Bydgoszy, Toruńska 59 | R43: turkusowe | X43: Adam KAJKO | Y43: KAJKO | Z43: Justyna PĘDRYS | AA43: PĘDRYS | AB43: Mysłowice | AL43: Certyfikat hali nr 38 | AN43: HK/TLM/39 | AP43: Sławomir WESOŁOWSKI | AQ43: WESOŁOWSKI
B44: 042 | D44: 41 | H44: 41 | L44: CUK Anioły Toruń | N44: GRO | P44: /BDM/ SISU ARENA, Toruńska 59 | R44: turkusowo-białe | X44: Paweł KAPICA | Y44: KAPICA | Z44: Wojciech PLICH | AA44: PLICH | AB44: Nowa Sól | AL44: Certyfikat hali nr 39 | AN44: HK/TLM/40 | AP44: Krzysztof WITEK | AQ44: WITEK
B45: 043 | D45: 42 | H45: 42 | L45: FORT Poznań | N45: JAW | P45: /BED/ Będzin Arena, Sportowa 20 | R45: zielone | X45: Piotr KASPRZYK | Y45: KASPRZYK | Z45: Rafał POŚPIECH | AA45: POŚPIECH R | AB45: Nysa | AL45: Certyfikat hali nr 40 | AN45: HK/TLM/41 | AP45: Marcin WOJCIECHOWSKI | AQ45: WOJCIECHOWSKI
B46: 044 | D46: 43 | L46: ICT PIERROT Czarni Radom | N46: KLU | P46: /BED/ HS Łagisza, Jedności 38 | R46: zielono-pomarańczowe | X46: Tomasz KIELAR | Y46: KIELAR | Z46: Barbara PUCHALSKA | AA46: PUCHALSKA | AB46: Olsztyn | AL46: Certyfikat hali nr 41 | AN46: HK/TLM/42 | AP46: Szymon WOLF | AQ46: WOLF
B47: 045 | D47: 44 | L47: KKS MICKIEWICZ Kluczbork | N47: NYS | P47: /GRO/ HWS CAiIS, Sportowa 29 | R47: złote | X47: Piotr KOWALSKI | Y47: KOWALSKI | Z47: Maja RELIGA | AA47: RELIGA | AB47: Opole | AL47: Certyfikat hali nr 42 | AN47: HK/TLM/43 | AP47: Mateusz WRÓBEL | AQ47: WRÓBEL
B48: 046 | D48: 45 | L48: KPS Płock | N48: PLO | P48: /JAW/ HWS w Jaworznie, ul. Grunwaldzka 80 | R48: złoto-czerwone | X48: Michał KOZIEŁ | Y48: KOZIEŁ | Z48: Patrycja ROJEK | AA48: ROJEK | AB48: Oświęcim | AL48: Certyfikat hali nr 43 | AN48: HK/TLM/44
B49: 047 | D49: 46 | L49: KPS Siedlce | N49: POZ | P49: /KLU/ OSiR w Kluczborku, Mickiewicza 10 | R49: żółte | X49: Filip KUCHNA | Y49: KUCHNA | Z49: Dawid RUSAK | AA49: RUSAK | AB49: Połaniec | AL49: Certyfikat hali nr 44 | AN49: HK/TLM/45
B50: 048 | D50: 47 | L50: KS Sparta Grodzisk Mazowiecki | N50: RAM | P50: /NYS/ HALA NYSA, Sudecka 23 | R50: żółto-czarne | X50: Jarosław MAKOWSKI | Y50: MAKOWSKI | Z50: Tomasz SAJDAK | AA50: SAJDAK | AB50: Poznań | AL50: Certyfikat hali nr 45 | AN50: HK/TLM/46
B51: 049 | D51: 48 | L51: Lechia Tomaszów Mazowiecki | N51: SDL | P51: /PLO/ CSR w Płocku, Aleja Jana Kilińskiego 12 | R51: żółto-fioletowe | X51: Michał MALINOWSKI | Y51: MALINOWSKI | Z51: Anna SAŁATA | AA51: SAŁATA | AB51: Preczów | AL51: Certyfikat hali nr 46 | AN51: HK/TLM/47
B52: 050 | D52: 49 | L52: MCKiS Jaworzno | N52: SMM | P52: /PLO/ Orlen Arena, Plac Celebry Papieskiej 1 | R52: żółto-niebieskie | X52: Tomasz MANSZEWSKI | Y52: MANSZEWSKI | Z52: Tomasz SARNA | AA52: SARNA | AB52: Radom | AL52: Certyfikat hali nr 47 | AN52: HK/TLM/48
B53: 051 | D53: 50 | L53: NOWAK - MOSTY MKS Będzin | N53: SPA | P53: /POZ/ Hala UAM Poznań, ul. Zagajnikowa 9 | R53: żółto-pomarańczowe | X53: Michał MARKOWSKI | Y53: MARKOWSKI | Z53: Barbara SETLIK | AA53: SETLIK B | AB53: Rybnik | AL53: Certyfikat hali nr 48 | AN53: HK/TLM/49
B54: 052 | D54: 51 | L54: PZL LEONARDO Avia Świdnik | N54: SWI | P54: /POZ/ Hala OSiR w Lusówku, Szkolna 7 | X54: Łukasz MISCHKE | Y54: MISCHKE | Z54: Katarzyna SETLIK | AA54: SETLIK K | AB54: Rzeszów | AL54: Certyfikat hali nr 49 | AN54: HK/TLM/50
B55: 053 | D55: 52 | L55: SMS PZPS Spała | N55: TOM | P55: /RAM/ HS MOSiR w Radomiu, Narutowicza 9 | X55: Agnieszka MYSZKOWSKA | Y55: MYSZKOWSKA | Z55: Paweł SIEPSIAK | AA55: SIEPSIAK | AB55: Siedlce | AL55: Certyfikat hali nr 50 | AN55: TAURON Liga Kobiet
B56: 054 | D56: 53 | L56: Stal Nysa | N56: TOR | P56: /RAM/ ENEA RCS w Radomiu, Struga 63 | X56: Marcin MYSZKOWSKI | Y56: MYSZKOWSKI | Z56: Marcin SKROBOT | AA56: SKROBOT | AB56: Skarżysko-Kamienna | AL56: Certyfikat hali nr 51 | AN56: HK/TLK/01
B57: 055 | D57: 54 | L57: drużyny "K2" | N57: skróty "K2" | P57: /SDL/ Hala ARM Siedlce, B. Prusa 6 | X57: Jacek MYŚLAK | Y57: MYŚLAK | Z57: Aleksandra SMOLAREK | AA57: SMOLAREK | AB57: Słupsk | AL57: Certyfikat hali nr 52 | AN57: HK/TLK/02
B58: 056 | D58: 55 | L58: Credo Płomień Sosnowiec | N58: BIA | P58: /SDL/ Hala w Siedlcach, Ks. J. Popiełuszki 8 | X58: Natalia NOGA | Y58: NOGA | Z58: Karolina SOLIBIEDA | AA58: SOLIBIEDA | AB58: Sochaczew | AL58: Certyfikat hali nr 53 | AN58: HK/TLK/03
B59: 057 | D59: 56 | L59: Enea Klub Siatkarski Piła | N59: GDK | P59: /SMM/ Sędziszów Małopolski, ks. Stanisława Maciąga 3 | X59: Mirosław PAŁKA | Y59: PAŁKA | Z59: Maciej STARAKIEWICZ | AA59: STARAKIEWICZ | AB59: Sopot | AL59: Certyfikat hali nr 54 | AN59: HK/TLK/04
B60: 058 | D60: 57 | L60: Gedania Politechnika Gdańsk | N60: IME | P60: /SMM/ Hala Sprtowa w Ropczycach, Wyspiańskiego 8 | X60: Piotr PANKOWSKI | Y60: PANKOWSKI | Z60: Krzysztof SZLAGOWSKI | AA60: SZLAGOWSKI | AB60: Sosnowiec | AL60: Certyfikat hali nr 55 | AN60: HK/TLK/05
B61: 059 | D61: 58 | L61: KS BAS Kombinat Budowlany Białystok | N61: LEG | P61: /SMM/ Hala MOSiR Mielec, Solskiego 1 | X61: Rafał POŚPIECH | Y61: POŚPIECH | Z61: Szymon SZLENDAK | AA61: SZLENDAK | AB61: Strzyżów | AL61: Certyfikat hali nr 56 | AN61: HK/TLK/06
B62: 060 | D62: 59 | L62: KSG Warszawa | N62: NDM | P62: /SPA/ COS Spała, Mościckiego 6 | X62: Marcin REK | Y62: REK | Z62: Michał SZULAWA | AA62: SZULAWA | AB62: Suwałki | AL62: Certyfikat hali nr 57 | AN62: HK/TLK/07
B63: 061 | D63: 60 | L63: NOWEL LOS Nowy Dwór Mazowiecki | N63: NYK | P63: /SWI/ Hala Sportowa SP nr 7, Armii Krajowej 3 | X63: Grzegorz SKOWROŃSKI | Y63: SKOWROŃSKI | Z63: Marek SZWALGUN | AA63: SZWALGUN | AB63: Szczecin | AL63: Certyfikat hali nr 58 | AN63: HK/TLK/08
B64: 062 | D64: 61 | L64: MARBA Sędziszów Małopolski | N64: PIL | P64: /TOM/ Arena Lodowa w Tomaszowie Mazowieckim, Strzelecka 24/26 | X64: Bartosz SŁOWIK | Y64: SŁOWIK | Z64: Karol TOBIASZ | AA64: TOBIASZ | AB64: Tarnów | AL64: Certyfikat hali nr 59 | AN64: HK/TLK/09
B65: 063 | D65: 62 | L65: BESKID MEDIA MKS Imielin | N65: SMK | P65: /TOM/ Hala Sportowa ZSP nr 3 w Tomaszowie Mazowieckim, ul Legionów 47 | X65: Katarzyna SOKÓŁ | Y65: SOKÓŁ | Z65: Jakub WLAŹLIK | AA65: WLAŹLIK | AB65: Tomaszów Maz. | AL65: Certyfikat hali nr 60 | AN65: HK/TLK/10
... B67: 065 | D67: 64 | L67: PGE LTS Legionovia Legionowo | N67: SZK | P67: /TOM/ HS SP nr 1, Leona Witolda May’a 11 | X67: Paweł SOSNOWSKI | Y67: SOSNOWSKI | Z67: Marta ŻMUDZIŃSKA | AA67: ŻMUDZIŃSKA | AB67: Wałbrzych | AL67: Certyfikat hali nr 62 | AN67: HK/TLK/12
B68: 066 | D68: 65 | L68: SMS PZPS Szczyrk | N68: WAK | P68: /TOR/ Arena Toruń, ul. Bema 73/89 | X68: Łukasz SZCZEPANKIEWICZ | Y68: SZCZEPANKIEWICZ | AB68: Warszawa | AL68: Certyfikat hali nr 63 | AN68: HK/TLK/13
B69: 067 | D69: 66 | L69: WTS Solna Wieliczka | N69: WIE | P69: /TOR/ Hala Sportowa SP nr 28, ul. Przy Skarpie 13 | X69: Aleksandra SZYDEŁKO | Y69: SZYDEŁKO | AB69: Wieliczka | AL69: Certyfikat hali nr 64 | AN69: HK/TLK/14
B70: 068 | D70: 67 | L70: drużyny "PP" | N70: skróty "PP" | P70: hala sporowa - TAURON 1.Liga Kobiet | X70: Luiza SZYMAŃCZAK | Y70: SZYMAŃCZAK | AB70: Wieluń | AL70: Certyfikat hali nr 65 | AN70: HK/TLK/15
B71: 069 | D71: 68 | L71: PZPS | N71: PP | P71: /BIA/ Hala ZSR w Białymstoku, ul. Ks. St. Suchowolca 26 | X71: Wojciech TARGOSZ | Y71: TARGOSZ | AB71: Wołomin | AL71: Certyfikat hali nr 66 | AN71: HK/TLK/16
B72: 070 | D72: 69 | P72: /GDK/ Hala Politechniki Gdańskiej, ul. Aleja Zwycięstwa 12 | X72: Ewelina URBANIAK-SZOSTAK | Y72: URBANIAK-SZOSTAK | AB72: Wrocław | AL72: Certyfikat hali nr 67 | AN72: HK/TLK/17
B73: 071 | D73: 70 | P73: /GDK/ Miejska Hala Sportowa, ul. Kołobrzeska 61 | X73: Patryk WIERZBOWICZ | Y73: WIERZBOWICZ | AB73: Września | AL73: Certyfikat hali nr 68 | AN73: HK/TLK/18
B74: 072 | D74: 71 | P74: /IME/ HWS w Imielinie, ul. Sapety 8a | X74: Krzysztof WOJTUNIK | Y74: WOJTUNIK | AB74: Zawiercie | AL74: Certyfikat hali nr 69 | AN74: HK/TLK/19
B75: 073 | D75: 72 | P75: /LEG/ Arena Legionowo, ul. Chrobrego 50b | X75: Michał ZYGMUNT | Y75: ZYGMUNT | AB75: Żołynia | AL75: Certyfikat hali nr 70 | AN75: HK/TLK/20
B76: 074 | D76: 73 | P76: /NDM/ Hala NOSiR, ul. Sportowa 66 | X76: Sędzia z uprawnieniami A3 | AB76: Żory | AL76: Certyfikat hali nr 71 | AN76: HK/TLK/21
B77: 075 | D77: 74 | P77: /NYK/ Hala PANS w Nysie, ul. ul Głuchołaska 12 | X77: Marta ANESZKO | Y77: ANESZKO | AL77: Certyfikat hali nr 72 | AN77: HK/TLK/22
B78: 076 | D78: 75 | P78: /PIL/ HWS MOSiR w Pile, ul. Żeromskiego 90 | X78: Jakub BORS | Y78: BORS | AL78: Certyfikat hali nr 73 | AN78: HK/TLK/23
B79: 077 | D79: 76 | P79: /SMK/ Hala przy SP nr 2, ul. ks. Stanisława Maciąga 3 | X79: Paulina BOŚ | Y79: BOŚ | AL79: Certyfikat hali nr 74 | AN79: HK/TLK/24
B80: 078 | D80: 77 | P80: /SOS/ Hala MOSiR w Sosnowcu, ul. Baczyńskiego 4 | X80: Kacper CIEŚLUK | Y80: CIEŚLUK | AL80: Certyfikat hali nr 75 | AN80: HK/TLK/25
B81: 079 | D81: 78 | P81: /SZK/ COS Szczyrk, ul. Plażowa 8 | X81: Anna CZYWCZYŃSKA | Y81: CZYWCZYŃSKA | AN81: HK/TLK/26
B82: 080 | D82: 79 | P82: /WAK/ OSiR Bemowo, ul. Obrońców Tobruku 40 | X82: Jakub DZIKUĆ | Y82: DZIKUĆ | AN82: HK/TLK/27
B83: 081 | D83: 80 | P83: /WAK/ OSiR Mokotów, ul. Niegocińska 2A | X83: Tomasz GRZEGOREK | Y83: GRZEGOREK | AN83: HK/TLK/28
B84: 082 | D84: 81 | P84: /WIE/ Hala Sportowa Solne Miasto, ul. Kościuszki 15 | X84: Martyna JAKUBOWSKA | Y84: JAKUBOWSKA | AN84: HK/TLK/29
B85: 083 | D85: 82 | P85: /WIE/ Hala Sportowa w Wieliczce, ul. Bogucka 2 | X85: Sławomir JAŻDŻEWSKI | Y85: JAŻDŻEWSKI | AN85: HK/TLK/30
B86: 084 | D86: 83 | P86: SPK; SPM; PPM; PPK; | X86: Agata JÓZEFOWICZ | Y86: JÓZEFOWICZ | AN86: HK/TLK/31
B87: 085 | D87: 84 | P87: ARENA GLIWICE, Akademicka 50 | X87: Hubert KACZMAREK | Y87: KACZMAREK | AN87: HK/TLK/32
B88: 086 | D88: 85 | P88: HALA Nysa, Sudecka 23 | X88: Leszek KAPŁON | Y88: KAPŁON | AN88: HK/TLK/33
B89: 087 | D89: 86 | P89: HWS SPODEK w Katowicach, Korfantego 35 | X89: Krzysztof KAPUSTA | Y89: KAPUSTA | AN89: HK/TLK/34
B90: 088 | D90: 87 | P90: Kalisz Arena, Wyszyńskiego 22-24 | X90: Michał KAZAŁA | Y90: KAZAŁA | AN90: HK/TLK/35
B91: 089 | D91: 88 | P91: TAURON Arena Kraków, Lema 7 | X91: Piotr KOZIOŁ | Y91: KOZIOŁ | AN91: HK/TLK/36
B92: 090 | D92: 89 | X92: Małgorzata KRAWCZYK | Y92: KRAWCZYK | AN92: HK/TLK/37
B93: 091 | D93: 90 | X93: Michał KUC | Y93: KUC | AN93: HK/TLK/38
B94: 092 | D94: 91 | X94: ŁukaszLEMIECH | Y94: LEMIECH | AN94: HK/TLK/39
B95: 093 | D95: 92 | X95: Marcin LEW | Y95: LEW | AN95: HK/TLK/40
B96: 094 | D96: 93 | X96: Tomasz LISIECKI | Y96: LISIECKI | AN96: HK/TLK/41
B97: 095 | D97: 94 | X97: Łukasz LUBIEWSKI | Y97: LUBIEWSKI | AN97: HK/TLK/42
B98: 096 | D98: 95 | X98: Łukasz MAKOWSKI | Y98: MAKOWSKI | AN98: HK/TLK/43
B99: 097 | D99: 96 | X99: Katarzyna MENCEL | Y99: MENCEL | AN99: HK/TLK/44
B100: 098 | D100: 97 | X100: Jarosław MINCZEWSKI | Y100: MINCZEWSKI | AN100: HK/TLK/45
B101: 099 | D101: 98 | X101: Maciej MIZGAŁA | Y101: MIZGAŁA | AN101: HK/TLK/46
B102: 100 | D102: 99 | X102: Anna NOWICKA | Y102: NOWICKA | AN102: HK/TLK/47
...

Sheet legenda
A1: wersja SK nr | C1: =D!B2 -> 3
A2: UWAGA:
A3: 1. poprawnie wypełnione sprawozdanie wysyłamy do wskazanych osób do godz. 13.00 następnego dnia po zakończonym meczu
A4: 2. w przypadku pojawienia się dwukolorowej komórki po wybraniu danych z listy, należy ponowić próbę wyboru danych z rozwijanej listy
A5: Informacje ogólne:
B6: 1. | C6: wypełniamy wszystkie NIEBIESKIE pola
B7: 2. | C7: wybieramy dane z LISTY we wszystkich ZIELONYCH polach
B8: 3. | C8: wypełniamy wszystkie niebieskie i zielone pola [liczba pozostałych do wypełnienia wyświetla się w lewym górnym rogu każdego dokumentu]
B9: 4. | C9: nazwiska osób piszemy drukowanymi literami, np. MALINOWSKI
B10: 5. | C10: imiona osób piszemy z dużej litery, np. Michał
B11: 6. | C11: przykładowy tutuł pliku SK: | H11: 2024-09-21_TLM-013_SK_ZAW-KED
B12: 7. | C12: przykładowy temat wiadomości e-mail: | H12: TLM-013_ZAW-KED
A13: Druk SK1:
B14: poz. 1--2 | E14: wybieramy z listy rodzaj rozgrywek
B15: poz. 4 | E15: wpisujemy w formacie: DD-MM-RRRR; Godziny piszemy w formacie: 15:00; Nr meczu wybieramy z listy
B16: poz. 6--7 | E16: wybieramy z listy nazwy drużyn i skróty trzyliterowe
B17: poz. 9 | E17: wybieramy z listy adresy hal sportowych
B18: poz. 14--18 | E18: wpisujemy wynik setów i czas gry.
B19: poz. 21 | E19: wybieramy z listy lub wpisujemy wynik ZŁOTEGO SETA oraz czas trwania seta
B20: poz. 22 | E20: wpisujemy pojemność hali z wykazu hal sportowych, liczbę widzów podaną przez organizatora oraz własną liczbę widzów.
E21: Znajdujemy wspólne stanowisko wraz z przedstawicielem organizatora zawodów
B22: poz. 23 | E22: wpisujemy lnazwiska MVP i ZW w formacie: MALINOWSKI K
B23: poz. 29--33 | E23: wybieramy z listy na podstawie ZAP kolejki-meczu: imiona i nazwiska oraz miejscowości i klasy sędziów, PE, KW, KT.
B24: poz. 37--45 | E24: wpisujemy lub wybieramy z listy dane z odprawy technicznej
B25: poz. 49--50 | E25: wybieramy z listy liczbę, błędów sędziów w poszczególnych obszarach oceny
C26: * | E26: Stosowanie regulaminów, przepisów, wytycznych
C27: * | E27: Dyscyplina, współpraca komisji sędziowskiej, reakcja na błędne decyzje SL
C28: * | E28: Gra przy siatce, w przestrzeni przejścia i pola ataku
C29: * | E29: Piłka dotknięta w obronie i podłożenie dłoni pod piłkę
C30: * | E30: Piła aut, boisko, po bloku, zagrywka, zasłona, rotacja, błędy libero
C31: * | E31: Dwa i cztery odbia piłki, błąd ataku, bloku, odbicie piłki
C32: * | E32: Ustawienie drużyny, akcja z udziałem libero
C33: * | E33: Kontrola ławek rezerwowych i pól rozgrzewki
B34: poz. 53 | E34: wybieramy z listy liczbę, podwyższającą ocenę pracy sędziego za trudność spotkania i dokonujemy stosownego wpisu w uwagach
B35: poz. 54--58 | E35: wybieramy z listy liczbę, challenge, na podstawie raportu challenge z meczu
E36: W przypadku stwierdzenia błędnej oceny zapisu wideo przez sędziego należy zabezpieczyć obraz wideo u personelu CH i przesłać do PLS
B37: poz. 60 | E37: wybieramy z listy liczbę, sankcji w meczu /drużynowe (D), następnie indywidualne (W, P, E, D)/
B38: poz. 64--71 | E38: oceniamy poziom sportowy meczu i formę drużyn [oceny od 0,0 do 5,0]
B39: poz. 76--79 | E39: oceniamy poziom sportowy widowiska
B40: poz. 85--87 | E40: opisujemy błędy sędziów wyszczególnione w poz. 49--50, np.
E41: S1/S2 Brak odprawy z obsługą zawodów; set 1 /6:3/ piłka po bloku; /15:12/ antenka po stronie S2; set 2 /1:4/ piłka po bloku oraz brak pomocy S2; set 3 /3:3/ piłka autowa; /9:9/ S1 wziął na siebie CH po wydaniu decyzji; /10:10/ piłka dotknięta w obronie oraz brak pomocy S2; set 4 /6:8/ brak reakcji S1 i S2 na zachowanie trenera gości; /10:20/ brak reakcji na zachowanie zawodników w polu rozgrzewki; set 5 /3:3/ S1/S2 brak reakcji na błąd SL;
B42: poz. 92--93 | E42: opisujemy zasadność udzielonych sankcji
B43: poz. 95--96 | E43: opisujemy zasadność podwyższenia oceny S1
B44: poz. 98-99 | E44: opisujemy zasadność podwyższenia oceny S2
B45: poz. 103--104 | E45: opisujemy uchybienia regulaminowe
B46: poz. 108--110 | E46: opisujemy uwagi dot. przebiegu zawodów
B47: poz. 115 | E47: wpisujemy godzinę rozpoczęcia i zakończenia pracy [z dokładnością do 0,5h]
A48: Druk SK2:
B49: poz. 15--16 | E49: wpisujemy dane
E50: W przypadku więcej niż dwóch kontuzji w meczu wypełniamy kolejne dokumenty SK (w SK1 wiersze 1--9) oraz SK2
B51: poz. 17 | E51: wybieramy dane z listy
B52: poz. 21 | E52: wypełnia KT zawodów
B53: poz. 25 | E53: wypełnia lekarz lub ratownik medyczny wraz z podpisem na oryginale dokumentu.
A54: Druk SK3:
B55: poz. 22 | E55: wpisujemy dane
B56: poz. 23 | E56: wybieramy z listy dane
B57: poz. 27 | E57: wypełnia osoba składająca protest wraz z podpisem na oryginale dokumentu.
B58: poz. 31 | E58: wypełnia KT zawodów
A59: Druk SK4:
B60: poz. 15--18 | D60: wybieramy dane
B61: poz. 21--23 | D61: wybieramy dane
B62: poz. 25--27 | D62: wybieramy dane
B63: poz. 32 | D63: wpisujemy wszystkie uwagi
A64: Druk SK6:
A66: Dystrybucja: | E66: zgodnie z wytycznymi Regulaminu Komisarza PLS

Sheet SK1
A1: =116-U1 -> 100 | B1: Mecz Polskiej Ligi Siatkówki | U1: =SUM(U2:U117) -> 16
U2: =COUNTA(C1) -> 0
A4: DD-MM-RRRR / 20:30 / numer meczu | U4: =COUNTA(C4:H4) -> 0
B5: gospodarz | C5: gość
A6: nazwa drużyny | U6: =COUNTA(B6:H6) -> 0
A7: skrót drużyny | U7: =COUNTA(B7:H7) -> 0
A9: nazwa i adres hali | U9: =COUNTA(B9) -> 0
A11: Wynik meczu, liczba widzów, MVP, ZW, załączniki do SK
C13: =B7 -> 0 | E13: =C7 -> 0 | G13: minut gry
A14: set 1 | I14: =CONCATENATE(IF(C14>E14,1,""),IF(C14<E14,-1,"")) | U14: =COUNTA(C14:H14) -> 0
A15: set 2 | I15: =CONCATENATE(IF(C15>E15,1,""),IF(C15<E15,-1,"")) | U15: =COUNTA(C15:H15) -> 0
A16: set 3 | I16: =CONCATENATE(IF(C16>E16,1,""),IF(C16<E16,-1,"")) | J16: 25 | U16: =COUNTA(C16:H16) -> 0
A17: set 4 | C17: 0 | E17: 0 | G17: 0 | I17: =CONCATENATE(IF(C17>E17,1,""),IF(C17<E17,-1,"")) | U17: =COUNTA(C17:H17) -> 3
A18: set 5 | C18: 0 | E18: 0 | G18: 0 | I18: =CONCATENATE(IF(C18>E18,1,""),IF(C18<E18,-1,"")) | U18: =COUNTA(C18:H18) -> 3
A19: razem: | C19: =SUM(C14:D18) -> 0 | E19: =SUM(E14:F18) -> 0 | G19: =IF(COUNTBLANK(G14)>0,"",CONCATENATE(QUOTIENT(SUM(G14:H18),60),"h ",MOD(SUM(G14:H18),60),"min"))
A20: wynik w setach: | C20: =IF(COUNTBLANK(C14)>0,"",COUNTIF(I14:I18,1)) | E20: =IF(COUNTBLANK(E14)>0,"",COUNTIF(I14:I18,-1))
A21: złoty SET /faza play off/ | C21: 0 | E21: 0 | G21: 0 | U21: =COUNTA(C21:H21) -> 3
A22: pojemność hali / liczba widzów wg. gospodarza / liczba widzów wg. KT | U22: =COUNTA(C22:H22) -> 0
A23: MVP Meczu / ZW Meczu: | U23: =COUNTA(C23:H23) -> 0
A24: Załączniki do SK: protest / kontuzja / kontrola antydopingowa: | C24: =IF('SK3'!C22<>"","TAK","NIE") -> NIE | E24: =IF(SK2_a!C15<>"","TAK","NIE") -> NIE | G24: =IF('SK4'!C15<>"","TAK","NIE") -> NIE | U24: =COUNTA(C24:H24) -> 3
A26: Komisja sędziowska
A28: funkcja | B28: Imię i Nazwisko | C28: miasto | F28: klasa | G28: średnia ocena
A29: Sędzia 1 | G29: =8-D49*0.5+SUM(D51:D53) -> 8 | U29: =COUNTA(B29:F29) -> 0
A30: Sędzia 2 | G30: =8-SUM(E49:E50)*0.5+SUM(E51:E53) -> 8 | U30: =COUNTA(B30:F30) -> 0
A31: PE / Sekretarz | G31: =IF(C40="brak spikera licencjonowanego","br SP","") | U31: =COUNTA(B31:F31) -> 0
A32: Kwalifikator PZPS | U32: =COUNTA(B32:F32) -> 0
A33: Komisarz PLS | F33: nd | U33: =COUNTA(B33:E33) -> 0
A35: Odprawa techniczna - informacje ogólne
A37: Liczba obsługi meczu: opiekun / podawacz piłek / moppers: | U37: =COUNTA(C37:H37) -> 0
A38: Regulaminowa informacja meczowa gospodarza zawodów: | U38: =COUNTA(C38:H38) -> 0
A39: Nr certyfikatu hali Polskiej Ligi Siatkówki: | U39: =COUNTA(C39:H39) -> 0
A40: Imię i Nazwisko certyfikowanego spikera Polskiej Ligi Siatkówki: | U40: =COUNTA(C40:H40) -> 0
A41: Imię i Nazwisko Kierownika obsługi systemu wideoweryfikacji: | U41: =COUNTA(C41:H41) -> 0
A42: Imię i Nazwisko osoby odp. za kontkat z Komisarzem zawodów: | U42: =COUNTA(C42:H42) -> 0
A43: Imię i Nazwisko osoby odp. za zabezpieczenie medyczne: | U43: =COUNTA(C43:H43) -> 0
A44: Imię i Nazwisko osoby odp. za ochronę zawodów: | U44: =COUNTA(C44:H44) -> 0
A45: Nr pozwolenia na organizację imprezy masowej: | U45: =COUNTA(C45:H45) -> 0
A47: Ewidencja błędów sędziów oraz ewidencja challenge i sankcji w meczu | D47: S1 | E47: S2
A49: Liczba błędów sędziów opisanych w poz. 85--87 | F49: nd | G49: nd | H49: nd | U49: =COUNTA(D49:E49) -> 0
A50: Błędna pomoc S1 lub brak pomocy S1 | D50: nd | F50: nd | G50: nd | H50: nd | U50: =COUNTA(E50) -> 0
A51: Podwyższenie oceny za sety na przewagi | D51: =IF(ABS(C14-E14)=2,0.2,0)+IF(ABS(C15-E15)=2,0.2,0)+IF(ABS(C16-E16)=2,0.2,0)+IF(ABS(C17-E17)=2,0.2,0)+IF(ABS(C18-E18)=2,0.2,0) -> 0 | E51: =IF(ABS(C14-E14)=2,0.2,0)+IF(ABS(C15-E15)=2,0.2,0)+IF(ABS(C16-E16)=2,0.2,0)+IF(ABS(C17-E17)=2,0.2,0)+IF(ABS(C18-E18)=2,0.2,0) -> 0 | F51: nd | G51: nd | H51: nd | U51: =COUNTA(D51:E51) -> 2
A52: Podwyższenie oceny za różnicę challenge /wygrany --- przegrany/ | D52: =IF(D54>SUM(D55:D57),(D54-SUM(D55:D57))*0.2,0) -> 0 | E52: =IF(E54>SUM(E55:E57),(E54-SUM(E55:E57))*0.2,0) -> 0 | F52: nd | G52: nd | H52: nd | U52: =COUNTA(D52:E52) -> 2
A53: Podwyższenie oceny przez KT za trudność spotkania | F53: nd | G53: nd | H53: nd | U53: =COUNTA(D53:E53) -> 0
A54: Liczba wygranych challenge przez sędziego | F54: nd | G54: nd | H54: nd | U54: =COUNTA(D54:E54) -> 0
A55: Liczba przegranych challenge przez sędziego | F55: nd | G55: nd | H55: nd | U55: =COUNTA(D55:E55) -> 0
A56: Liczba challenge po przyznaniu się do błędu przez zawodnika | F56: nd | G56: nd | H56: nd | U56: =COUNTA(D56:E56) -> 0
A57: Liczba challenge bez możliwości oceny | F57: nd | G57: nd | H57: nd | U57: =COUNTA(D57:E57) -> 0
A58: Liczba challenge dla S1 / S2 | F58: nd | G58: nd | H58: nd | U58: =COUNTA(D58:E58) -> 0
A59: Liczba challenge w meczu | D59: =SUM(D54:E58) -> 0
A60: Liczba sankcji w meczu /drużynowe (D) oraz indywidualne (W; P; E; D)/ | U60: =COUNTA(C60:H60) -> 0
A62: Ocena poziomu sportowego meczu /od 0 do 5/
A64: Sportowa forma drużyny: | C64: =B7 -> 0 | F64: =C7 -> 0 | U64: =COUNTA(E64,H64) -> 0
A65: Zaangażowanie zawodników /czek/ w grę - waleczność: | C65: =B7 -> 0 | F65: =C7 -> 0 | U65: =COUNTA(E65,H65) -> 0
A66: Skuteczne zagrania: zagrywka, atak, blok, gra w obronie: | C66: =B7 -> 0 | F66: =C7 -> 0 | U66: =COUNTA(E66,H66) -> 0
A67: Dramaturgia meczu , gra punkt za punkt, sety na przewagi: | C67: =B7 -> 0 | F67: =C7 -> 0 | U67: =COUNTA(E67,H67) -> 0
A68: Gra najlepszych zawodników /czek/ drużyny: | C68: =B7 -> 0 | F68: =C7 -> 0 | U68: =COUNTA(E68,H68) -> 0
A69: Zachowanie sztabu trenerskiego: | C69: =B7 -> 0 | F69: =C7 -> 0 | U69: =COUNTA(E69,H69) -> 0
A70: Zachowanie zawodników (czek): | C70: =B7 -> 0 | F70: =C7 -> 0 | U70: =COUNTA(E70,H70) -> 0
A71: Oceny za czas gry drużyn /zgodnie z procedurami/: | C71: =B7 -> 0 | F71: =C7 -> 0 | U71: =COUNTA(E71,H71) -> 0
A72: średnia ocena: | C72: =B7 -> 0 | E72: =IFERROR(AVERAGE(E64:E71),"") | F72: =C7 -> 0 | H72: =IFERROR(AVERAGE(H64:H71),"")
A74: Ocena meczu jako widowiska /od 0 do 5/
A76: Bezpieczeństwo / Przygotowanie obiektu wg. manuala / Zaangazowanie gospodarza: | U76: =COUNTA(F76:H76) -> 0
A77: Praca spikera / Praca podawaczy piłek / Praca mopersów: | U77: =COUNTA(F77:H77) -> 0
A78: Występy zespołów tanecznych / Konkursy dla kibiców / Oprawa widowiska: | U78: =COUNTA(F78:H78) -> 0
A79: Zachowanie kibiców / Zachowanie drużyn / Ocena za liczbę widzów na meczu: | H79: =IFERROR(G22/C22*5,"") | U79: =COUNTA(F79:G79) -> 0
A80: Poziom sportowy meczu /średnia ocen poziomu sportowego drużyny A i drużyny B/: | F80: =IF(SUM(E72,H72)/2=0,"",SUM(E72,H72)/2)
A81: średnia ocena: | F81: =IFERROR(IF(AVERAGE(F76:H80)=0,"",AVERAGE(F76:H80)),"")
A83: Opis błędów sędziów wyszczególnionych w poz. 49
U85: =COUNTA(A85) -> 0
A89: Informacja nt. udzielonych / nieudzielonych sankcji oraz podwyższenia oceny sędziom
A91: =IF(SUM(D60:H60)="","",IF(SUM(D60:H60)=0,"Brak sankcji w meczu","Zasadność udzielonych sankcji przez sędziego 1:")) -> Brak sankcji w meczu
A94: =IF(D53="","",IF(D53=0,"Brak podwyższenia oceny dla sędziego 1","Zasadność podwyższenia oceny dla sędziego 1:"))
A97: =IF(E53="","",IF(E53=0,"Brak podwyższenia oceny dla sędziego 2","Zasadność podwyższenia oceny dla sędziego 2:"))
A101: Uchybienia w stosunku do przepisów regulaminu profesjonalnego współzawodnictwa
U103: =COUNTA(A103) -> 0
A106: Uwagi Komisarza Technicznego dot. przebiegu zawodów
U109: =COUNTA(A108) -> 0
A112: Czas pracy Komisarz Technicznego
A114: Liczba godzin przepracowana podczas wykonywania obowiązków na meczu: | F114: od | G114: do | H114: godzin
H115: =G115-F115 -> 0 | U115: =COUNTA(F115:G115) -> 0
C116: Komisarz Techniczny PLS SA
C117: =B33 -> 0
C118: ………………………………………………….……………………….

Sheet SK2_a
A1: =5-K1 -> 5 | B1: Raport o kontuzji | C1: ='SK1'!C1:H2 -> 0 | K1: =SUM(K15:K25) -> 0
A4: dzień / godzina / numer meczu | C4: ='SK1'!C4:D4 -> 0 | E4: ='SK1'!E4:F4 -> 0 | G4: ='SK1'!G4:H4 -> 0
B5: gospodarz | C5: gość
A6: nazwa drużyny | B6: ='SK1'!B6 -> 0 | C6: ='SK1'!C6:H6 -> 0
A7: skrót drużyny | B7: ='SK1'!B7 -> 0 | C7: ='SK1'!C7:H7 -> 0
A9: nazwa i adres hali | B9: ='SK1'!B9:H9 -> 0
A11: Druk wypełniamy bezpośrednio po zakończeniu meczu
A13: Kontuzja zawodnika /czki/
A15: Imię i Nazwisko zawodnika /czki/ | K15: =COUNTA(C15) -> 0
A16: Nr zawodnika /czki/ | K16: =COUNTA(C16) -> 0
A17: Nazwa drużyny | K17: =COUNTA(C17) -> 0
A19: Przyczyny i okoliczności kontuzji /wypełnia Komisarz Techniczny/
K21: =COUNTA(A21) -> 0
A23: Orzeczenie lekarza lub ratownika medycznego zawodów, pieczęć, podpis
K25: =COUNTA(A25) -> 0
C27: Komisarz Techniczny PLS SA
C28: ='SK1'!C117:H117 -> 0
C29: ………………………………………………………………….
C30: podpis

Sheet SK2_b
A1: =5-K1 -> 5 | B1: Raport o kontuzji | C1: ='SK1'!C1:H2 -> 0 | K1: =SUM(K15:K25) -> 0
A4: dzień / godzina / numer meczu | C4: ='SK1'!C4:D4 -> 0 | E4: ='SK1'!E4:F4 -> 0 | G4: ='SK1'!G4:H4 -> 0
B5: gospodarz | C5: gość
A6: nazwa drużyny | B6: ='SK1'!B6 -> 0 | C6: ='SK1'!C6:H6 -> 0
A7: skrót drużyny | B7: ='SK1'!B7 -> 0 | C7: ='SK1'!C7:H7 -> 0
A9: nazwa i adres hali | B9: ='SK1'!B9:H9 -> 0
A11: Druk wypełniamy bezpośrednio po zakończeniu meczu
A13: Kontuzja zawodnika /czki/
A15: Imię i Nazwisko zawodnika /czki/ | K15: =COUNTA(C15) -> 0
A16: Nr zawodnika /czki/ | K16: =COUNTA(C16) -> 0
A17: Nazwa drużyny | K17: =COUNTA(C17) -> 0
A19: Przyczyny i okoliczności kontuzji /wypełnia Komisarz Techniczny/
K21: =COUNTA(A21) -> 0
A23: Orzeczenie lekarza lub ratownika medycznego zawodów, pieczęć, podpis
K25: =COUNTA(A25) -> 0
C27: Komisarz Techniczny PLS SA
C28: ='SK1'!C117:H117 -> 0
C29: ………………………………………………………………….
C30: podpis

Sheet SK3
A1: =4-K1 -> 4 | B1: Raport o złożonym proteście | C1: ='SK1'!C1:H2 -> 0 | K1: =SUM(K22:K31) -> 0
A4: dzień / godzina / numer meczu | C4: ='SK1'!C4:D4 -> 0 | E4: ='SK1'!E4:F4 -> 0 | G4: ='SK1'!G4:H4 -> 0
B5: gospodarz | C5: gość
A6: nazwa drużyny | B6: ='SK1'!B6 -> 0 | C6: ='SK1'!C6:H6 -> 0
A7: skrót drużyny | B7: ='SK1'!B7 -> 0 | C7: ='SK1'!C7:H7 -> 0
A9: nazwa i adres hali | B9: ='SK1'!B9:H9 -> 0
A11: Druk wypełniamy bezpośrednio po zakończeniu meczu
A13: Komisja sędziowska
A15: funkcja | B15: Imię i Nazwisko | C15: miasto | E15: klasa
A16: Sędzia 1 | B16: ='SK1'!B29 -> 0 | C16: ='SK1'!C29 -> 0 | E16: ='SK1'!F29 -> 0
A17: Sędzia 2 | B17: ='SK1'!B30 -> 0 | C17: ='SK1'!C30 -> 0 | E17: ='SK1'!F30 -> 0
A18: Kwalifikator | B18: ='SK1'!B32 -> 0 | C18: ='SK1'!C32 -> 0 | E18: ='SK1'!F32 -> 0
A20: Protest drużyny
A22: Imię i Nazwisko osoby upoważnionej do składania protestu: | K22: =COUNTA(C22) -> 0
A23: Drużyna składająca protest: | K23: =COUNTA(C23) -> 0
A25: Przyczyny złożenia protestu oraz uzasadnienie osoby składającej protest.
K27: =COUNTA(A27) -> 0
A29: Zasadność i przyczyny złożonego protestu oraz stanowisko Komisarza Technicznego.
K31: =COUNTA(A31) -> 0
C33: Komisarz Techniczny PLS SA
C34: ='SK1'!C117:H117 -> 0
C35: ………………………………………………………………….
C36: podpis

Sheet SK4
A1: =11-K1 -> 11 | B1: Raport z pracy komisji antydopingowej | C1: ='SK1'!C1:H2 -> 0 | K1: =SUM(K15:K32) -> 0
A4: dzień / godzina / numer meczu | C4: ='SK1'!C4:D4 -> 0 | E4: ='SK1'!E4:F4 -> 0 | G4: ='SK1'!G4:H4 -> 0
B5: gospodarz | C5: gość
A6: nazwa drużyny | B6: ='SK1'!B6 -> 0 | C6: ='SK1'!C6:H6 -> 0
A7: skrót drużyny | B7: ='SK1'!B7 -> 0 | C7: ='SK1'!C7:H7 -> 0
A9: nazwa i adres hali | B9: ='SK1'!B9:H9 -> 0
A11: Druk wypełniamy po przybyciu komisji antydopingowej
A13: Kontrola antydopingowa zawodników /czek/ drużyn
A15: Godzina przybycia komisji; | K15: =COUNTA(C15) -> 0
A16: Imię i Nazwisko, funkcja, przedstawiciela drużyny gospodarzy: | K16: =COUNTA(C16) -> 0
A17: Imię i Nazwisko, funkcja, przedstawiciela drużyny gości: | K17: =COUNTA(C17) -> 0
A18: Imię i Nazwisko Przewodniczącego Komisji: | K18: =COUNTA(C18) -> 0
A19: Do pracy komisji przygotowano listy zawodników /czek/ z numerami startowymi. Zawodnicy /czki/, którzy zostali poddani kontroli antydopingowej, zostali wybrani metodą losowania. Losowanie odbyło się w obecności przedstawicieli drużyn.
A20: Wylosowani zawodnicy /czki/ drużyny: | C20: ='SK1'!B6 -> 0
A21: Imię i Nazwisko zawodnika /czki/: | K21: =COUNTA(C21) -> 0
A22: Imię i Nazwisko zawodnika /czki/: | K22: =COUNTA(C22) -> 0
A23: Imię i Nazwisko zawodnika /czki/: | K23: =COUNTA(C23) -> 0
A24: Wylosowani zawodnicy /czki/ drużyny: | C24: ='SK1'!C6:H6 -> 0
A25: Imię i Nazwisko zawodnika /czki/: | K25: =COUNTA(C25) -> 0
A26: Imię i Nazwisko zawodnika /czki/: | K26: =COUNTA(C26) -> 0
A27: Imię i Nazwisko zawodnika /czki/: | K27: =COUNTA(C27) -> 0
A28: Wszyscy wymienieni zawodnicy /czki/ stawili się po zakończonych zawodach przed komisją antydopingową w celu pobrania materiału do badań. Komisja antydopingowa pobrała i zabezpieczyła próbki do badań.
A30: Uwagi KT do przeprowadzonego badania i zachowania zawodników /czek/
K32: =COUNTA(A32) -> 0
C34: Imię i Nazwisko KT PLS SA
C35: ='SK1'!C117:H117 -> 0
C36: ………………………………………………………………….

Sheet SK6
A1: =17-K1 -> 17 | B1: Raport marketingowy | C1: ='SK1'!C1:H2 -> 0 | K1: =SUM(K15:K77) -> 0
A4: dzień / godzina / numer meczu | C4: ='SK1'!C4:D4 -> 0 | E4: ='SK1'!E4:F4 -> 0 | G4: ='SK1'!G4:H4 -> 0
B5: gospodarz | C5: gość
A6: nazwa drużyny | B6: ='SK1'!B6 -> 0 | C6: ='SK1'!C6:H6 -> 0
A7: skrót drużyny | B7: ='SK1'!B7 -> 0 | C7: ='SK1'!C7:H7 -> 0
A9: nazwa i adres hali | B9: ='SK1'!B9:H9 -> 0
A11: Stroje meczowe
A13: Uwagi lub uwag brak | C13: nr homologacji strojów
C14: =B7 -> 0 | F14: =C7 -> 0
K15: =COUNTA(C15,F15) -> 0
C16: prawidłowe / nieprawidłowe
K17: =COUNTA(C17:H17) -> 0
A19: Ścianka telewizyjna i Ścianka MIXED ZONE
A21: Uwagi lub uwag brak | C21: prawidłowa / nieprawidłowa
K22: =COUNTA(C22:H22) -> 0
A24: Materiały poligraficzne
A26: Uwagi lub uwag brak | C26: prawidłowe / nieprawidłowe
K27: =COUNTA(C27:H27) -> 0
A29: Hala zawodów
A31: Uwagi lub uwag brak | C31: zweryfikowana / niezweryfikowana
K32: =COUNTA(C32:H32) -> 0
A34: Siatka meczowa / Stanowisko sędziego
A36: Uwagi lub uwag brak | C36: prawidłowa / nieprawidłowa
K37: =COUNTA(C37:H37) -> 0
A39: Piłka meczowa / Ławka rezerwowych
A41: Uwagi lub uwag brak | C41: prawidłowa / nieprawidłowa
K42: =COUNTA(C42:H42) -> 0
A44: Statuetka MVP meczu
A46: Uwagi lub uwag brak | C46: prawidłowa / nieprawidłowa
K47: =COUNTA(C47:H47) -> 0
A49: Baner Mikasa
A51: Uwagi lub uwag brak | C51: prawidłowy / nieprawidłowy
K52: =COUNTA(C52:H52) -> 0
A54: Plan boiska /naklejki zwykłe lub 3D/
A56: Uwagi lub uwag brak | C56: prawidłowy / nieprawidłowy
K57: =COUNTA(C57:H57) -> 0
A59: Bandy stałe za stanowiskiem sędziego 1
A61: Uwagi lub uwag brak | C61: prawidłowe / nieprawidłowe
K62: =COUNTA(C62:H62) -> 0
A64: Bandy stałe /dodatkowe/
A66: Uwagi lub uwag brak | C66: prawidłowe / nieprawidłowe
K67: =COUNTA(C67:H67) -> 0
A69: Bandy reklamowe
A71: Uwagi lub uwag brak | C71: rodzaj band / emisja spotów przez cały mecz
K72: =COUNTA(C72:H72) -> 0
A74: Transmisja TV lub INT
A76: Uwagi lub uwag brak | C76: TRANSMISJA
K77: =COUNTA(C77:H77) -> 0
C79: Komisarz Techniczny PLS SA
C80: ='SK1'!B33 -> 0
C81: ………………………………………………………………….

Sheet drużyny
A1: Nazwy i skróry trzyliterowe drużyn, adresy i pojemność hal sportowych rozgrywek Polskiej Ligi Siatkówki
A3: Nazwa drużyny | D3: skrót TV | F3: skrót PLS | H3: nazwa i adres hali | I3: miejsc | J3: nazwa i adres hali | K3: miejsc | L3: nazwa i adres hali | M3: miejsc
A5: 1 | B5: PGE GiEK SKRA Bełchatów | D5: BEL | F5: BEL | H5: Hala Energia | I5: 2180
H6: Dąbrowskiego 11a
A7: 2 | B7: Podziemia Kredowe ChKS Chełm | D7: CHE | F7: CHE | H7: Miejska Hala Sportowa | I7: 1500
H8: Graniczna 2A
A9: 3 | B9: NEONET Norwid Częstochowa | D9: CZE | F9: CZN | H9: HS Częstochowa | I9: 5843
H10: Żużlowa 4
A11: 4 | B11: Energa Trefl Gdańsk | D11: GDA | F11: GDA | H11: Ergo Arena | I11: 11280
H12: Plac Dwóch Miast 1
A13: 5 | B13: Stilon Gorzów | D13: GOR | F13: GOR | H13: Arena Gorzów | I13: 5042
H14: Słowiańska 16
A15: 6 | B15: GKS Katowice | D15: KAT | F15: KAT | H15: Arena Katowice | I15: 3004 | J15: MOSiR w Szopienicach | K15: 1549
H16: Nowa Bukowa 1 | J16: 11 Listopada 16
A17: 7 | B17: ZAKSA Kędzierzyn - Koźle | D17: KED | F17: KED | H17: HWS Azoty im. K. Pietrzyka | I17: 3375
H18: Mostowa 1a
A19: 8 | B19: BOGDANKA LUK Lublin | D19: LBN | F19: LUK | H19: HSW Globus | I19: 4221
H20: Kazimierza Wielkiego 8
A21: 9 | B21: Jastrzębie Barkom | D21: LWW | F21: LWW | H21: HS w Jastrzębiu - Zdroju | I21: 3112
H22: Jana Pawła II 6
A23: 10 | B23: Energa Indykpol AZS Olsztyn | D23: OLS | F23: OLS | H23: Hala Urania | I23: 4045
H24: Piłsudskiego 44
A25: 11 | B25: Asseco Resovia Rzeszów | D25: RZE | F25: RZM | H25: Hala Podpromie | I25: 4304
H26: Podpromie 10
A27: 12 | B27: Ślepsk Malow Suwałki | D27: SUW | F27: SUW | H27: Suwałki Arena | I27: 2230
H28: Zarzecze 26
A29: 13 | B29: PGE Projekt Warszawa | D29: WAR | F29: WAM | H29: Hala Torwar | I29: 5846 | J29: Arena Ursynów | K29: 1777
H30: Łazienkowska 6a | J30: Pileckiego 122
A31: 14 | B31: Aluron CMC Warta Zawiercie | D31: ZAW | F31: ZAW | H31: HWS w Zawierciu | I31: 1500 | J31: Arena Sosnowiec | K31: 3300
H32: Blanowska 40 | J32: Plac Zagłębia 3
A34: 1 | B34: BKS ZGO Bielsko-Biała | D34: BIE | F34: BBK | H34: HWS im. Z. Pietrzykowskiego | I34: 3009
H35: Karbowa 26
A36: 2 | B36: Metalkas Pałac Bydgoszcz | D36: BYD | F36: BDK | H36: HWS ŁUCZNICZKA | I36: 6078 | J36: SISU Arena | K36: 1500
H37: Toruńska 59 | J37: Toruńska 59
A38: 3 | B38: Netland MKS Kalisz | D38: KAL | F38: KAL | H38: Arena Kalisz | I38: 2888
H39: Wyszyńskiego 22-24
A40: 4 | B40: PGE Budowlani Łódź | D40: LDZ | F40: LDZ | H40: Sport Arena | I40: 3017
H41: Uni Lubelskiej 2
A42: 5 | B42: ŁKS Commercecon Łódź | D42: ŁKS | F42: LKS | H42: SPORT Arena | I42: 3017 | J42: ATLAS Arena | K42: 13806
H43: Uni Lubelskiej 2 | J43: Bandurskiego 7
A44: 6 | B44: ITA TOOLS STAL Mielec | D44: MIE | F44: MIE | H44: MOSiR Mielec | I44: 3000
H45: Solskiego 1
A46: 7 | B46: Sokół & Hagric Mogilno | D46: MOG | F46: MOG | H46: HWS w Mogilnie | I46: 1300
H47: Grobla 1b
A48: 8 | B48: UNI Opole | D48: OPO | F48: OPO | H48: Stegu Arena | I48: 3378
H49: ul. Oleska 70
A50: 9 | B50: LOTTO Chemik Police | D50: POL | F50: POL | H50: Enea Arena Szczecin | I50: 5055 | J50: HS w Policach | K50: 1200
H51: Szafera 3/5/7 | J51: Siedlecka 6e
A52: 10 | B52: MOYA Radomka Radom | D52: RAD | F52: RAK | H52: ENEA RCS | I52: 5100 | J52: MOSiR w Radomiu | K52: 1500
H53: Struga 63 | J53: Narutowicza 9
A54: 11 | B54: KS DevelopRes Rzeszów | D54: RZE | F54: RZK | H54: Hala PODPROMIE | I54: 4304
H55: Podpromie 10
A56: 12 | B56: #VolleyWrocław | D56: WRO | F56: WRK | H56: Hala Orbita | I56: 3000 | J56: HS w Jelczu-Laskowicach | K56: 1000 | L56: HS w Twardogórze | M56: 1100
H57: Wejherowska 34 | J57: Oławska 46 | L57: Wrocławska 39
A59: 1 | B59: BBTS Bielsko - Biała | D59: BIE | F59: BBM | H59: HS im. Z. Pietrzykowskiego | I59: 3009
H60: Karbowa 26
A61: 2 | B61: BKS Bydgoszcz | D61: BYD | F61: BDM | H61: HSW Łuczniczka | I61: 6078 | J61: SISU ARENA | K61: 1500
H62: Toruńska 59 | J62: Toruńska 59
A63: 3 | B63: NOWAK - MOSTY MKS Będzin | D63: BED | F63: BED | H63: Będzin Arena | I63: 2500 | J63: HS Łagisza | K63: 500 | L63: HWS Sosnowiec | M63: 1500
H64: Sportowa 20 | J64: Jedności 38 | L64: Żeromskiego 9
A65: 4 | B65: KS Sparta Grodzisk Mazowiecki | D65: GRO | F65: GRO | H65: HWS CAiIS | I65: 1567
H66: Sportowa 29
A67: 5 | B67: MCKiS Jaworzno | D67: JAW | F67: JAW | H67: HWS w Jaworznie | I67: 1052
H68: ul. Grunwaldzka 80
A69: 6 | B69: KKS MICKIEWICZ Kluczbork | D69: KLU | F69: KLU | H69: OSiR w Kluczborku | I69: 500
H70: Mickiewicza 10
A71: 7 | B71: FORT Poznań | D71: POZ | F71: POZ | H71: Hala UAM Poznań | I71: 800 | J71: Hala OSiR w Lusówku | K71: 300
H72: ul. Zagajnikowa 9 | J72: Szkolna 7
A73: 8 | B73: Stal Nysa | D73: NYS | F73: NYS | H73: HALA NYSA | I73: 2500
H74: Sudecka 23
A75: 9 | B75: KPS Płock | D75: PLO | F75: PLO | H75: CSR w Płocku | I75: 299 | J75: Orlen Arena | K75: 5500
H76: Aleja Jana Kilińskiego 12 | J76: Plac Celebry Papieskiej 1
A77: 10 | B77: ICT PIERROT Czarni Radom | D77: RAD | F77: RAM | H77: ENEA RCS w Radomiu | I77: 5100 | J77: HS MOSiR w Radomiu | K77: 1500
H78: Struga 63 | J78: Narutowicza 9
A79: 11 | B79: KPS Siedlce | D79: SDL | F79: SDL | H79: Hala ARM Siedlce | I79: 440 | J79: Hala w Siedlcach | K79: 300
H80: B. Prusa 6 | J80: Ks. J. Popiełuszki 8
A81: 12 | B81: AVIA Sędziszów Małopolski | D81: SMM | F81: SMM | H81: Sędziszów Małopolski | I81: 280 | J81: Hala MOSiR Mielec | K81: 3000 | L81: Hala Sprtowa w Ropczycach | M81: 500
H82: ks. Stanisława Maciąga 3 | J82: Solskiego 1 | L82: Wyspiańskiego 8
A83: 13 | B83: SMS PZPS Spała | D83: SPA | F83: SPA | H83: COS Spała | I83: 500
H84: Mościckiego 6
A85: 14 | B85: PZL LEONARDO Avia Świdnik | D85: SWI | F85: SWI | H85: Hala Sportowa SP nr 7 | I85: 300
H86: Armii Krajowej 3
A87: 15 | B87: Lechia Tomaszów Mazowiecki | D87: TOM | F87: TOM | H87: Hala Sportowa ZSP nr 3 | I87: 500 | J87: HS SP nr 1 | K87: 300 | L87: Arena Lodowa | M87: 1000
H88: ul Legionów 47 | J88: Leona Witolda May’a 11 | L88: ul. Strzelecka 24/26
A89: 16 | B89: CUK Anioły Toruń | D89: TOR | F89: TOR | H89: Hala Sportowa SP nr 28 | I89: 700 | J89: Arena Toruń | K89: 5675
H90: ul. Przy Skarpie 13 | J90: ul. Bema 73/89
A92: 1 | B92: Credo Płomień Sosnowiec | D92: SOS | F92: SOS | H92: Hala MOSiR w Sosnowcu | I92: 1130
H93: Baczyńskiego 4
A94: 2 | B94: Enea Klub Siatkarski Piła | D94: PIL | F94: PIL | H94: HWS MOSiR w Pile | I94: 1498
H95: Żeromskiego 90
A96: 3 | B96: Gedania Politechnika Gdańsk | D96: GDK | F96: GDK | H96: Hala Politechniki Gdańskiej | I96: 300 | J96: Miejska Hala Sportowa | K96: 700
H97: Aleja Zwycięstwa 12 | J97: Kołobrzeska 61
A98: 4 | B98: KS BAS Kombinat Budowlany Białystok | D98: BIA | F98: BIA | H98: Hala ZSR w Białymstoku | I98: 500
H99: Ks. St. Suchowolca 26
A100: 5 | B100: KSG Warszawa | D100: WAK | F100: WAK | H100: OSiR Bemowo | I100: 1991 | J100: OSiR Mokotów | K100: 350
H101: Obrońców Tobruku 40 | J101: Niegocińska 2A
A102: 6 | B102: NOWEL LOS Nowy Dwór Mazowiecki | D102: NDM | F102: NDM | H102: Hala NOSiR | I102: 450
H103: Sportowa 66
A104: 7 | B104: MARBA Sędziszów Małopolski | D104: SMK | F104: SMK | H104: Hala przy SP nr 2 | I104: 280
H105: ks. Stanisława Maciąga 3
...

Sheet obsada
B1: Mecz piłki siatkowej | C1: ='SK1'!C1:H2 -> 0
B4: gospodarz | C4: gość
A5: nazwa drużyny | B5: ='SK1'!B6 -> 0 | C5: ='SK1'!C6:H6 -> 0
A7: Komisja sędziowska
A9: funkcja | B9: Imię i Nazwisko | C9: Miasto
A10: Sędzia 1 | B10: ='SK1'!B29 -> 0 | C10: ='SK1'!C29:E29 -> 0
A11: Sędzia 2 | B11: ='SK1'!B30 -> 0 | C11: ='SK1'!C30:E30 -> 0
A12: Sędzia L1
A13: Sędzia L2
A14: PE / Sekretarz | B14: ='SK1'!B31 -> 0 | C14: ='SK1'!C31:E31 -> 0
A15: Kwalifikator PZPS | B15: ='SK1'!B32 -> 0 | C15: ='SK1'!C32:E32 -> 0
A16: Komisarz PLS | B16: ='SK1'!B33 -> 0 | C16: ='SK1'!C33:E33 -> 0

Sheet challenge
A1: Legenda systemu challenge w rozgrywkach Polskiej Ligi Siatkówki
E3: skrót zapisu | F3: opis
D5: S1 | E5: #S1 | F5: challenge na życzenie S1
D6: S1 | E6: #1 | F6: piłka aut/boisko ocena miejsca upadku piłki
D7: S1 | E7: #2 | F7: kontakt stóp zawodnika libero ze strefą ataku
D8: S1 | E8: #3 | F8: kontakt piłki z boiskiem przy próbie jej podbicia
D9: S1 | E9: #4 | F9: piłka po bloku, dwóch lub czterech odbić przez zawodnika lub zespół
F10: oraz kontakt piłki z zawodnikiem przed jej wyjściem na aut
D11: S1 | E11: #5 | F11: kontakt piłki z antenką przy S1 (w szczególności kolejność kontaktu – po bloku czy po ataku);
D12: S2 | E12: #6 | F12: kontakt piłki z antenką przy S2 (w szczególności kolejność kontaktu – po bloku czy po ataku);
D13: S1 | E13: #7 | F13: kontakt zawodnika z antenką przy S1
D14: S2 | E14: #8 | F14: kontakt zawodnika z antenką przy S2
D15: S1 | E15: #9 | F15: kontakt zawodnika z siatką podczas ataku oraz kontakt zawodnika z piłką po stronie przeciwnika
D16: S2 | E16: #10 | F16: kontakt zawodnika z siatką podczas bloku
D17: S1 | E17: #11 | F17: kontakt stóp zawodnika z linią końcową
D18: S1 | E18: #12 | F18: kontakt stóp zawodnika z linią boczną
D19: S2 | E19: #13 | F19: kontakt stóp zawodnika z linią środkową oraz gra zawodnika w przestrzeni przeciwnika
D20: S1 | E20: #14 | F20: kontakt stóp zawodnika ze strefą ataku
E21: #6n | F21: brak możliwości podjęcia decyzji po analizie zapisu wideo, gdzie nr odpowiada przedmiotowi sprawdzenia
D22: S1 | E22: #15 | F22: błąd sędziego S1
D23: S2 | E23: #16 | F23: błąd sędziego S2
A25: Polska Liga Siatkówki S.A.
